BEGIN:VCALENDAR
PRODID:Solar Promotion GmbH
CALSCALE:GREGORIAN
BEGIN:VEVENT
DTSTAMP:20260423T123043Z
DTSTART:20211102T110000
DTEND:20211102T120000
SUMMARY:Smarte Ladesysteme für Europa – eine Enscheidungshilfe
TZID:Europe/Berlin
LAST-MODIFIED:20231103T104359Z
DESCRIPTION:Mit einem E-Auto in die Zukunft starten\, aber mit welchem Ladesystem?Diese Power2Drive Webinar wird Ihnen einen Leitfaden an die Hand geben\, welche technischen Kriterien und Entscheidungen getroffen werden müssen.
SEQUENCE:1776947443
URL:https://www.powertodrive.de/de/webinare/-smarte-ladesysteme-fuer-europa-eine-enscheidungshilfe
LOCATION:Power2Drive Europe\, 02. November 2021
UID:273cbc6f-ed45-4346-ac53-dcc76104ce7d
END:VEVENT
END:VCALENDAR
