BEGIN:VCALENDAR
PRODID:Solar Promotion GmbH
CALSCALE:GREGORIAN
BEGIN:VEVENT
DTSTAMP:20260423T134750Z
DTSTART:20211102T110000
DTEND:20211102T120000
SUMMARY:Smart Charging Systems for Europe – A Decision Guidance
TZID:Europe/Berlin
LAST-MODIFIED:20231103T104428Z
DESCRIPTION:Smart Charging for EVs: Starting into the future with an e-car\, but which charging system to use? This Power2Drive Webinar will give you a guidance which technical criteria and decisions has to be made.
SEQUENCE:1776952070
URL:https://www.powertodrive.de/en/webinars/mart-charging-systems-for-europe-a-decision-guidance
LOCATION:Power2Drive Europe\, November 02\, 2021
UID:a98d056e-2c1f-4b95-a82c-3024fcb4883b
END:VEVENT
END:VCALENDAR
