BEGIN:VCALENDAR
PRODID:Solar Promotion GmbH
CALSCALE:GREGORIAN
BEGIN:VEVENT
DTSTAMP:20260423T122444Z
DTSTART:20220921T100000
DTEND:20220921T110000
SUMMARY:Is Germany Prepared for E-Mobility? – Exclusive Insights into the new "Installer Survey Charging Infrastructure"
TZID:Europe/Berlin
LAST-MODIFIED:20250911T102219Z
DESCRIPTION:Charging infrastructure: what is the German market like and how do installers implement installations? Experience values from the installer's point of view are available in the new study "Installation Radar Charging Infrastructure"\, exclusive insights in the webinar.
SEQUENCE:1776947084
URL:https://www.powertodrive.de/webinars/installation-radar-charging-infrastructure
LOCATION:Power2Drive Europe\, September  21\, 2022
UID:5725a6cb-d75e-4089-adda-a494966e796c
END:VEVENT
END:VCALENDAR
