BEGIN:VCALENDAR
PRODID:Solar Promotion GmbH
CALSCALE:GREGORIAN
BEGIN:VEVENT
DTSTAMP:20260423T122845Z
DTSTART:20221025T150000
DTEND:20221025T160000
SUMMARY:Ladesysteme – Marktübersicht\, Best Practices und Schlüsseltechnologien
TZID:Europe/Berlin
LAST-MODIFIED:20231103T110807Z
DESCRIPTION:Das Webinar zur Power2Drive Marktübersicht Ladeinfrastruktur bietet Ihnen einen herstellerunabhängigen Überblick zu den verschiedenen und den häufigsten Fragen\, präsentiert von cosmix. Passend dazu dienen Ladesysteme als Bindeglied zwischen erneuerbaren Energien und Elektromobilität. Webasto liefert im zweiten Teil Best-Practice-Beispiele zur Integration von Ladesystemen\, also Lösungen von Solardach und Batterie in Fahrzeugen in Kombination mit Lademanagement im Auto/ an der Säule.
SEQUENCE:1776947325
URL:https://www.powertodrive.de/webinare/neue-marktuebersicht-best-practices-und-schluesseltechnologien
LOCATION:Power2Drive Europe\, 25. Oktober 2022
UID:9566e846-64e4-4cdb-bf48-d1f2640b83db
END:VEVENT
END:VCALENDAR
