BEGIN:VCALENDAR
PRODID:Solar Promotion GmbH
CALSCALE:GREGORIAN
BEGIN:VEVENT
DTSTAMP:20260423T123554Z
DTSTART:20230221T110000
DTEND:20230221T120000
SUMMARY:Fit For 23? E-Fahrzeuge Regulierungen Update 2023
TZID:Europe/Berlin
LAST-MODIFIED:20240910T093832Z
DESCRIPTION:Fit for 23? Wie steht es um die kommende EU-Verordnung\, die sich auf Elektrofahrzeuge\, Ladeinfrastruktur und die in diesem Sektor tätigen Unternehmen auswirken wird? Was bedeutet das für die Märkte?
SEQUENCE:1776947754
URL:https://www.powertodrive.de/webinar/efahrzeuge-regulierungen-update-2023
LOCATION:Power2Drive Europe\, 21. Februar 2023
UID:d75e8287-e164-4b6f-9ee5-d46a370c84c1
END:VEVENT
END:VCALENDAR
