BEGIN:VCALENDAR
PRODID:Solar Promotion GmbH
CALSCALE:GREGORIAN
BEGIN:VEVENT
DTSTAMP:20260424T052322Z
DTSTART:20240410T110000
DTEND:20240410T120000
SUMMARY:Future Fleets: Electromobile Impact and the Role of a Holistic Charging Ecosystem
TZID:Europe/Berlin
LAST-MODIFIED:20240910T090104Z
DESCRIPTION:Webinar on electric fleets
SEQUENCE:1777008202
URL:https://www.powertodrive.de/webinar/future-fleets
LOCATION:Power2Drive Europe\, April 10\, 2024
UID:f28f6182-34e8-4d83-99e2-6fa593603861
END:VEVENT
END:VCALENDAR
