BEGIN:VCALENDAR
PRODID:Solar Promotion GmbH
CALSCALE:GREGORIAN
BEGIN:VEVENT
DTSTAMP:20260423T074127Z
DTSTART:20240409T150000
DTEND:20240409T161500
SUMMARY:Electric Truck Charging – The Next Big Challenge
TZID:Europe/Berlin
LAST-MODIFIED:20240910T085522Z
DESCRIPTION:Webinar on truck charging
SEQUENCE:1776930087
URL:https://www.powertodrive.de/webinars/truck-charging
LOCATION:Power2Drive Europe\, April 9\, 2024
UID:d81da080-1311-428f-b2a3-d26ee721aa4c
END:VEVENT
END:VCALENDAR
