BEGIN:VCALENDAR
PRODID:Solar Promotion GmbH
CALSCALE:GREGORIAN
BEGIN:VEVENT
DTSTAMP:20260423T122534Z
DTSTART:20240621T140000
DTEND:20240621T160000
SUMMARY:Workshop "Dekarbonisierung von Flotten"
TZID:Europe/Berlin
LAST-MODIFIED:20250226T105707Z
DESCRIPTION:Dekarbonisierung für Unternehmen\, ein Kompaktkurs rund um die Pflichten durch das Energieeffizienzgesetz\, die Corporate Sustainability Reporting verbunden mit den Möglichkeiten durch die Elektrifizierung von Fahrzeugflotten
SEQUENCE:1776947134
URL:https://www.powertodrive.de/rahmenprogramm/dekarbonisierung-von-flotten
LOCATION:Power2Drive Europe\, 
UID:de101ecd-4f89-4204-8787-d26b45cc8af1
END:VEVENT
END:VCALENDAR
