BEGIN:VCALENDAR
PRODID:Solar Promotion GmbH
CALSCALE:GREGORIAN
BEGIN:VEVENT
DTSTAMP:20260423T204133Z
DTSTART:20240620T090000
DTEND:20240620T110000
SUMMARY:Women in Mobility – Female Breakfast
TZID:Europe/Berlin
LAST-MODIFIED:20241030T083825Z
DESCRIPTION:Die Women in Mobility setzen sich für mehr Sichtbarkeit von Frauen in der Mobilitätsbranche ein.
SEQUENCE:1776976893
URL:https://www.powertodrive.de/rahmenprogramm/women-in-mobility-fruehstueck
LOCATION:Power2Drive Europe\, 
UID:3a796d69-f2f4-42ac-8eb7-d17ca086531c
END:VEVENT
END:VCALENDAR
