BEGIN:VCALENDAR
PRODID:Solar Promotion GmbH
CALSCALE:GREGORIAN
BEGIN:VEVENT
DTSTAMP:20260423T122057Z
DTSTART:20240619T113000
DTEND:20240619T133000
SUMMARY:Workshop: E-Mobilität – die Zukunft des Fuhrparkmanagements
TZID:Europe/Berlin
LAST-MODIFIED:20241030T084001Z
DESCRIPTION:Von ersten Schritten zur großflächigen Skalierung – worauf es in der nächsten Phase beim E-Fuhrpark ankommt.
SEQUENCE:1776946857
URL:https://www.powertodrive.de/rahmenprogramm/zukunft-des-fuhrparkmanagements
LOCATION:Power2Drive Europe\, 
UID:a70429ca-7f74-4b42-93e8-61d365abf70a
END:VEVENT
END:VCALENDAR
