BEGIN:VCALENDAR
PRODID:Solar Promotion GmbH
CALSCALE:GREGORIAN
BEGIN:VEVENT
DTSTAMP:20260423T122057Z
DTSTART:20240619T143000
DTEND:20240619T153000
SUMMARY:Der Großhandel als Lösungsanbieter für Ladeinfrastrukturprojekte
TZID:Europe/Berlin
LAST-MODIFIED:20241030T084131Z
DESCRIPTION:So bieten Sie als EGH smarte\, skalierbare und kompatible Produktlösungen für Ladeinfrastrukturprojekte einfach an!
SEQUENCE:1776946857
URL:https://www.powertodrive.de/rahmenprogramm/elektromobilitaet-zukunftsthema-grosshandel
LOCATION:Power2Drive Europe\, 
UID:aa5651a7-53c9-4c25-8b1f-f34b6b8055f0
END:VEVENT
END:VCALENDAR
