BEGIN:VCALENDAR
PRODID:Solar Promotion GmbH
CALSCALE:GREGORIAN
BEGIN:VEVENT
DTSTAMP:20260421T101150Z
DTSTART:20260212T140000
DTEND:20260212T200000
SUMMARY:Dynamic Electricity Tariffs and Smart Meters Offered by Energy Suppliers Under Scrutiny: 10th Energy Transition Awards at "The smarter E Europe" on June 25\, 2026 
TZID:Europe/Berlin
LAST-MODIFIED:20260212T152529Z
DESCRIPTION:Germany’s energy transition has entered a new phase with the nationwide rollout of dynamic electricity tariffs and smart meters mandated under recent energy digitisation legislation.
SEQUENCE:1776766310
URL:https://www.powertodrive.de/press-release/energytransitionawards2026
LOCATION:The smarter E Europe\, 
UID:5f373d31-1687-4ee0-8573-3d5f0fc91d15
END:VEVENT
END:VCALENDAR
