BEGIN:VCALENDAR
PRODID:Solar Promotion GmbH
CALSCALE:GREGORIAN
BEGIN:VEVENT
DTSTAMP:20260421T224701Z
DTSTART:20260623T143000
DTEND:20260623T160000
SUMMARY:Turning Industrial and Commercial Demand Side Flexibility into Value
TZID:Europe/Berlin
LAST-MODIFIED:20260421T102631Z
DESCRIPTION:Bitte beachten Sie\, dass alle Konferenzsessions in englischer Sprache abgehalten werden. Industrial and commercial flexibility is no longer experimental - it is becoming a core part of network operation and market participation. Across Europe\, DSOs\, transmission system operators (TSOs)\, aggregators and retailers are moving from isolated pilots to coordinated programs that avoid grid upgrades and deliver real capacity and financial value for all participants. This session focuses on the operational integration of C&I flexibility into routine grid workflows through dispatch\, settlement\, verification and commercial models. It highlights how flexibility is embedded in daily operations: from automated dispatch and verification tools to new contractual models that reward large energy users for adapting consumption. You will gain insight into replicable approaches for scaling flex portfolios\, integrating them into control-room workflows and ensuring fair value-sharing across utilities\, service providers and industrial consumers.
SEQUENCE:1776811621
URL:https://www.powertodrive.de/konferenzprogramm/turning-industrial-and-commercial-demand-side-flexibility-into-value
LOCATION:EM-Power Europe Conference Program\, ICM München Raum 4
UID:2eff4581-1733-4015-b4e1-8f1988ed5e92
END:VEVENT
END:VCALENDAR
