BEGIN:VCALENDAR
PRODID:Solar Promotion GmbH
CALSCALE:GREGORIAN
BEGIN:VEVENT
DTSTAMP:20260424T230219Z
DTSTART:20260519T103000
DTEND:20260519T120000
SUMMARY:Erfolgreiche Elektrifizierung von Pkw- und Nutzfahrzeugflotten
TZID:Europe/Berlin
LAST-MODIFIED:20260424T135438Z
DESCRIPTION:Erfolgreiche Elektrifizierung von Pkw- und NFZ-Flotten
SEQUENCE:1777071739
URL:https://www.powertodrive.de/webinare/elektrifizierung-von-pkw-und-nfz-flotten
LOCATION:Power2Drive Europe\, 
UID:2ab7f55f-83fe-4f4d-a7ce-246697a6e1a3
END:VEVENT
END:VCALENDAR
